BEGIN:VCALENDAR
VERSION:2.0
PRODID:-//CentroPR - ECPv6.15.2//NONSGML v1.0//EN
CALSCALE:GREGORIAN
METHOD:PUBLISH
X-ORIGINAL-URL:https://staging.centropr.dev
X-WR-CALDESC:Events for CentroPR
REFRESH-INTERVAL;VALUE=DURATION:PT1H
X-Robots-Tag:noindex
X-PUBLISHED-TTL:PT1H
BEGIN:VTIMEZONE
TZID:America/New_York
BEGIN:DAYLIGHT
TZOFFSETFROM:-0500
TZOFFSETTO:-0400
TZNAME:EDT
DTSTART:20240310T070000
END:DAYLIGHT
BEGIN:STANDARD
TZOFFSETFROM:-0400
TZOFFSETTO:-0500
TZNAME:EST
DTSTART:20241103T060000
END:STANDARD
BEGIN:DAYLIGHT
TZOFFSETFROM:-0500
TZOFFSETTO:-0400
TZNAME:EDT
DTSTART:20250309T070000
END:DAYLIGHT
BEGIN:STANDARD
TZOFFSETFROM:-0400
TZOFFSETTO:-0500
TZNAME:EST
DTSTART:20251102T060000
END:STANDARD
END:VTIMEZONE
BEGIN:VEVENT
DTSTART;TZID=America/New_York:20250531T200000
DTEND;TZID=America/New_York:20250531T220000
DTSTAMP:20260423T034834
CREATED:20250411T150331Z
LAST-MODIFIED:20250411T150333Z
UID:10000434-1748721600-1748728800@staging.centropr.dev
SUMMARY:(Partner Event) Los Rivera Destino - BoriCorridor Tour 2025
DESCRIPTION:Bohemia\, sátira y mucho ingenio\, así puede describirse el estilo musical único de Los Rivera Destino\, cuyo reconocimiento se ha disparado exponencialmente durante los pasados años. Carlos\, Antonio y Fernando logran combinar el humor y picardía en sus letras con ritmos como el bolero y el rock\, para ofrecer al público un espectáculo creativo\, dinámico y extraordinariamente divertido.
URL:https://staging.centropr.dev/event/partner-event-los-rivera-destino-boricorridor-tour-2025/
LOCATION:Hostos Center for the Arts and Culture\, 450 Grand Concourse\, Bronx\,\, New York City\, NY\, 10451\, United States
CATEGORIES:Music
ATTACH;FMTTYPE=image/jpeg:https://staging.centropr.dev/app/uploads/2025/04/NYC_LOS-RIVERA-DESTINO_BCTOUR_1080X1080.jpg
END:VEVENT
BEGIN:VEVENT
DTSTART;TZID=America/New_York:20250427T170000
DTEND;TZID=America/New_York:20250427T190000
DTSTAMP:20260423T034834
CREATED:20250328T180255Z
LAST-MODIFIED:20250328T180257Z
UID:10000427-1745773200-1745780400@staging.centropr.dev
SUMMARY:(Partner Event) Haciendo Punto en Otro Son - La Ruta de los 50
DESCRIPTION:El emblemático conjunto de la Nueva Trova puertorriqueña\, Haciendo Punto en Otro Son\, celebrará su 50 aniversario\, uniéndose a la programación de BoriCorridor Tour 2025 para llevar su música al público de la diáspora que sigue cantando sus grandes éxitos. Dos de sus fundadores\, Silverio Pérez y Josy Latorre\, junto a Alex Croatto y una banda de 11 músicos\, presentarán su espectáculo “En ruta a los 50” el próximo 27 de abril a las 5:00 p.m. en el Hostos Center for the Arts & Culture.
URL:https://staging.centropr.dev/event/partner-event-haciendo-punto-en-otro-son-la-ruta-de-los-50/
LOCATION:Hostos Center for the Arts and Culture\, 450 Grand Concourse\, Bronx\,\, New York City\, NY\, 10451\, United States
CATEGORIES:Music
ATTACH;FMTTYPE=image/jpeg:https://staging.centropr.dev/app/uploads/2025/03/1080X1080_NYC-HACIENDO-PUNTO_BCTOUR.jpg
END:VEVENT
BEGIN:VEVENT
DTSTART;TZID=America/New_York:20240504T190000
DTEND;TZID=America/New_York:20240504T210000
DTSTAMP:20260423T034834
CREATED:20240223T170334Z
LAST-MODIFIED:20240305T134701Z
UID:10000301-1714849200-1714856400@staging.centropr.dev
SUMMARY:Partner Event: Hermes Croatto
DESCRIPTION:May 4\, 2024 (7pm) @ Hostos Center for the Arts and Culture (450 Grand Concourse\, Bronx\, New York City). \nThe artist invites us to an encounter with our national identity through our music. It will be a night full of Puerto Rican culture and folklore. Croatto will present a refreshing proposal of folk music fused with electronic that arises from his quest to reconnect with his roots and his love for Puerto Rico. The repertoire will include songs from his latest musical production\, and classics from his father\, Tony Croatto\, among others. \nHermes Croatto is part of the BoriCorridor Tour 2024 program.
URL:https://staging.centropr.dev/event/hermes-croatto/
LOCATION:Hostos Center for the Arts and Culture\, 450 Grand Concourse\, Bronx\,\, New York City\, NY\, 10451\, United States
CATEGORIES:Music
ATTACH;FMTTYPE=image/jpeg:https://staging.centropr.dev/app/uploads/2024/02/BTIX_Hermes-Croatto_Event-Banner-1360X910-1.jpg
END:VEVENT
END:VCALENDAR