BEGIN:VCALENDAR
VERSION:2.0
PRODID:-//CentroPR - ECPv6.15.2//NONSGML v1.0//EN
CALSCALE:GREGORIAN
METHOD:PUBLISH
X-WR-CALNAME:CentroPR
X-ORIGINAL-URL:https://staging.centropr.dev
X-WR-CALDESC:Events for CentroPR
REFRESH-INTERVAL;VALUE=DURATION:PT1H
X-Robots-Tag:noindex
X-PUBLISHED-TTL:PT1H
BEGIN:VTIMEZONE
TZID:America/New_York
BEGIN:DAYLIGHT
TZOFFSETFROM:-0500
TZOFFSETTO:-0400
TZNAME:EDT
DTSTART:20240310T070000
END:DAYLIGHT
BEGIN:STANDARD
TZOFFSETFROM:-0400
TZOFFSETTO:-0500
TZNAME:EST
DTSTART:20241103T060000
END:STANDARD
BEGIN:DAYLIGHT
TZOFFSETFROM:-0500
TZOFFSETTO:-0400
TZNAME:EDT
DTSTART:20250309T070000
END:DAYLIGHT
BEGIN:STANDARD
TZOFFSETFROM:-0400
TZOFFSETTO:-0500
TZNAME:EST
DTSTART:20251102T060000
END:STANDARD
END:VTIMEZONE
BEGIN:VEVENT
DTSTART;TZID=America/New_York:20250221T180000
DTEND;TZID=America/New_York:20250221T210000
DTSTAMP:20260423T054001
CREATED:20250221T163204Z
LAST-MODIFIED:20250221T163224Z
UID:10000422-1740160800-1740171600@staging.centropr.dev
SUMMARY:(Partner Event) Opening Reception of ALMA: Echoes of the Nuyorican Movement
DESCRIPTION:Taller Boricua presents ALMA: Echoes of the Nuyorican Movement\, an exhibition honoring over five decades of Puerto Rican artistic expression and cultural resistance. Founded in 1969\, Taller Boricua has been a vital hub for Puerto Rican artists in New York\, offering a space for creative freedom and activism. The exhibition showcases key works from the iconic 30th Anniversary Portfolio\, which pairs visual art and poetry by notable Nuyorican artists\, reflecting the intersection of culture\, identity\, and social justice. The portfolio includes work by Rafael Tufiño\, Diogenes Ballester\, Gloria Rodriguez (RoCa)\, Nitza Tufiño\, Fernando Salicrup\, Marcos Dimas\, and Juan Sanchez\, alongside poets Jesús Papoleto Meléndez\, Pedro Pietri\, Tania Niomi\, María Boncher\, Hector Rivera\, y Mariposa (María Teresa Fernández Rosario).\n\nThe exhibition also features new works by current members of the Rafael Tufiño Printshop\, ensuring that the traditions of Puerto Rican printmaking continue to thrive. These contemporary pieces highlight the ongoing relevance of themes like resistance\, identity\, and community\, which have defined the Nuyorican movement for over five decades. Current printshop’s participating printmakers include Minerva Gonzalez Suvidad\, Albert Justiniano\, Betty Cole\, James Cuebas\, Eliezer Berrios\, Carmen Ayala\, Mariana Ayala\, Oliver Ríos\, Felix Plaza\, George Malave\, and Ada Pilar Cruz.\n\nThis exhibition is open through March 30th with an artist talk on March 1st at 2pm. \n\nThis year\, The Latinx Project at New York University has been at the forefront of exploring Nuyorican and Diasporican histories\, with the forthcoming book Nuyorican and Diasporican Visual Art: A Critical Anthology (Duke University Press)\, edited by Arlene Dávila and Yasmin Ramirez\, and their exhibition RicanVisions: Global Ancestralities and Embodied Futures\, (January 31 – May 2) which features the work of 19 contemporary Nuyorican and Diasporican artists. While distinct\, this exhibition at Taller Boricua resonates with The Latinx Project’s efforts to focus on the Diasporican experience. Together\, these initiatives highlight the ongoing evolution and expansion of the Nuyorican identity and art. We invite visitors to attend The Latinx Project’s programming and explore these rich narratives\, gaining complete insight into this moment of reflection and connection and engaging with the evolving futures of the Nuyorican and Diasporican communities.\n\nTaller Boricua Galleries: 1680 Lexington Avenue\, Harlem\, NYC\, New York 10029. (In between 106 and 105th St on Lexington Ave) Free Admission. Accessible for individuals with disabilities. T: 212.831.4333; contact@tallerboricua.org; https://tallerboricua.org/  \n\nRafael Tufiño Printshop is located at 121 East 106 Street\, Harlem\, New York 10029. It is open Wednesday and Saturday from 1 to 5 p.m. and has free Admission.
URL:https://staging.centropr.dev/event/opening-reception-of-alma-echoes-of-the-nuyorican-movement/
LOCATION:Taller Boricua Gallery\, 1680 Lexington Ave\, New York\, NY\, 10029\, United States
CATEGORIES:Exhibit
ATTACH;FMTTYPE=image/jpeg:https://staging.centropr.dev/app/uploads/2025/02/BC-20250108-355.jpg
ORGANIZER;CN="Taller Boricua / The Puerto Rican Workshop":MAILTO:Contact@tallerboricua.org
END:VEVENT
BEGIN:VEVENT
DTSTART;TZID=America/New_York:20240524T180000
DTEND;TZID=America/New_York:20240721T180000
DTSTAMP:20260423T054001
CREATED:20240507T210235Z
LAST-MODIFIED:20240507T210326Z
UID:10000324-1716573600-1721584800@staging.centropr.dev
SUMMARY:Partner Event: The Art of Resistance Exhibition
DESCRIPTION:Since 1998\, vagabond has dedicated a vast amount of his writing\, art\, and filmmaking talents to the Puerto Rican independence movement. This show is a collection of 25 years worth of his art and agit-prop. July 25th\, 1998 marked the 100th anniversary of the US invasion of Puerto Rico which led to ongoing an occupation and colonization of the island nation. Along with other individuals and community organizations\, he launched a graffiti tagging agit-prop campaign that grew to full blown large scale murals. The only surviving mural is the ALBIZU / CHE\, also known as the DOS ALAS mural.\n\nVisit THE ART OF RESISTANCE: DECOLONIZATION RICANSTRUCTED: 25 Years of Art & Agit-Prop by vagabond with curator Tontxi Vazquez and co-curator Ana Hilda Figueroa de Jesús at El Taller Boricua from May 24-July 21\, 2024. Exhibition will be open from Tuesday – Saturday 12 – 6pm; Monday & Sunday closed.
URL:https://staging.centropr.dev/event/the-art-of-resistance-exhibition/
LOCATION:Taller Boricua Gallery\, 1680 Lexington Ave\, New York\, NY\, 10029\, United States
CATEGORIES:Exhibit
ATTACH;FMTTYPE=image/jpeg:https://staging.centropr.dev/app/uploads/2024/05/official-theartofresistance.jpg
ORGANIZER;CN="Taller Boricua / The Puerto Rican Workshop":MAILTO:Contact@tallerboricua.org
END:VEVENT
END:VCALENDAR