BEGIN:VCALENDAR
VERSION:2.0
PRODID:-//CentroPR - ECPv6.15.2//NONSGML v1.0//EN
CALSCALE:GREGORIAN
METHOD:PUBLISH
X-WR-CALNAME:CentroPR
X-ORIGINAL-URL:https://staging.centropr.dev
X-WR-CALDESC:Events for CentroPR
REFRESH-INTERVAL;VALUE=DURATION:PT1H
X-Robots-Tag:noindex
X-PUBLISHED-TTL:PT1H
BEGIN:VTIMEZONE
TZID:America/New_York
BEGIN:DAYLIGHT
TZOFFSETFROM:-0500
TZOFFSETTO:-0400
TZNAME:EDT
DTSTART:20240310T070000
END:DAYLIGHT
BEGIN:STANDARD
TZOFFSETFROM:-0400
TZOFFSETTO:-0500
TZNAME:EST
DTSTART:20241103T060000
END:STANDARD
END:VTIMEZONE
BEGIN:VEVENT
DTSTART;TZID=America/New_York:20241114T183000
DTEND;TZID=America/New_York:20241114T200000
DTSTAMP:20260423T054013
CREATED:20241004T175306Z
LAST-MODIFIED:20241004T175722Z
UID:10000378-1731609000-1731614400@staging.centropr.dev
SUMMARY:(Partner Event) Jose Nogueras: Boricua Donde Quiera
DESCRIPTION:Kicking off the Navidad Season with IBA is Jose Nogueras!\n\nJosé Nogueras is one of Puerto Rico’s most versatile songwriters and singers. He has managed to reach the top of the music charts (Hit parade) in rock\, ballad\, Creole music and even tropical music.\n\nCheo Feliciano\, Rubén Blades\, Hector Lavoe\, Ismael Miranda\, Willie Colón\, Gilberto Santarrosa\, Manny Manuel\, Shakira\, Danny Rivera\, Los Hispanos\, Fernando Villalona and Olga Tañón are some of the artists who have performed his compositions.\n\nNogueras has been awarded over the years with important awards such as; “Composer of the Year” (Billboard Magazine)\, “Singer of the Year” (Agüeybana and Cemí Awards)\, “Christmas Production of the Year” and his compositions have always been distinguished by their simplicity\, depth and universal feeling.\n\nBorn in the town of Mayaguez where he was born on June 18\, 1951\, son of José Nogueras Chapel (QPD)\, from the town of Añasco and Milka Vega Soto from the city of cucumber\, San Sebastián. From an early age he felt a passion for music\, an inspiration that he has always channeled through the instrument he enjoys the most… the guitar. His father was a simple and humble human being\, with an extraordinary talent for poetry and perhaps it has been that vein that has allowed the development of José Nogueras as an author.\n\nAt the age of eight he came to reside in the city of Rio Piedras where he feels like an adopted son. During his school years\, between the ages of 8 and 16\, he participated in a number of musical groups. At the age of 17 he began his foray into music professionally.\n\nTheir record productions have been characterized by their excellent quality\, both technically and musically. Each of them is framed in a concept\, distinguished by its sensitivity and innovative way of harmonizing the topics.\n\nJosé Nogueras’ music has not only managed to captivate the Puerto Rican public with its contagious rhythm and flavor\, but has also been recognized in other Latin American countries and in the Hispanic sector of the United States.
URL:https://staging.centropr.dev/event/partnership-jose-nogueras-boricua-donde-quiera/
LOCATION:Roxbury Community College Theater\, 1234 Columbus Ave\, Boston\, MA 02120\, Boston\, MA\, 02120\, United States
CATEGORIES:Music,Special Events
ATTACH;FMTTYPE=image/jpeg:https://staging.centropr.dev/app/uploads/2024/10/https___cdn.evbuc_.com_images_860993839_131028619565_1_original.jpg
ORGANIZER;CN="Inquilinos Boricuas en Acci%C3%B3n":MAILTO:vanessa@ibaboston.org
END:VEVENT
END:VCALENDAR