BEGIN:VCALENDAR
VERSION:2.0
PRODID:-//CentroPR - ECPv6.15.2//NONSGML v1.0//EN
CALSCALE:GREGORIAN
METHOD:PUBLISH
X-WR-CALNAME:CentroPR
X-ORIGINAL-URL:https://staging.centropr.dev
X-WR-CALDESC:Events for CentroPR
REFRESH-INTERVAL;VALUE=DURATION:PT1H
X-Robots-Tag:noindex
X-PUBLISHED-TTL:PT1H
BEGIN:VTIMEZONE
TZID:America/New_York
BEGIN:DAYLIGHT
TZOFFSETFROM:-0500
TZOFFSETTO:-0400
TZNAME:EDT
DTSTART:20240310T070000
END:DAYLIGHT
BEGIN:STANDARD
TZOFFSETFROM:-0400
TZOFFSETTO:-0500
TZNAME:EST
DTSTART:20241103T060000
END:STANDARD
BEGIN:DAYLIGHT
TZOFFSETFROM:-0500
TZOFFSETTO:-0400
TZNAME:EDT
DTSTART:20250309T070000
END:DAYLIGHT
BEGIN:STANDARD
TZOFFSETFROM:-0400
TZOFFSETTO:-0500
TZNAME:EST
DTSTART:20251102T060000
END:STANDARD
END:VTIMEZONE
BEGIN:VEVENT
DTSTART;TZID=America/New_York:20250304T183000
DTEND;TZID=America/New_York:20250304T200000
DTSTAMP:20260423T053643
CREATED:20250207T183600Z
LAST-MODIFIED:20250207T183602Z
UID:10000416-1741113000-1741118400@staging.centropr.dev
SUMMARY:(Partner Event) Documentary Filmmaking and Black Spirituality in Puerto Rico
DESCRIPTION:Join us for a Women’s History Month Community Event hosted by Baruch’s Black and Latino Studies Department with filmmaker Rosamary Berríos Hernández in conversation with Dr. Margarita Rosa\, Visiting Assistant Professor of BLS\, and Dr. Rojo Robles\, Assistant Professor at BLS and curator of the Roots and Tides film festival. Rosamary Berríos Hernández’s film Santiago de las Mujeres screens at Mishkin Gallery from March 3-7.\n\nThis bilingual conversation with Berríos\, organized by the Black Studies Colloquium\, offers audiences a compelling opportunity to engage with documentary filmmaking in a dynamic and participatory manner. The event will focus on ethical filmmaking practices\, Black spirituality and culture in Puerto Rico\, and women’s narratives\, drawing inspiration from Berríos’s film Santiago de las Mujeres (2023). Attendees will have the chance to interact directly\, providing feedback on film sequences and engaging in discussions about Afro-Puerto Rican topics with Berríos.
URL:https://staging.centropr.dev/event/partner-event-documentary-filmmaking-and-black-spirituality-in-puerto-rico/
LOCATION:Mishkin Gallery\, 135 E 22nd St\, New York\, New York\, 10010
CATEGORIES:Film Screening,Panel
ATTACH;FMTTYPE=image/jpeg:https://staging.centropr.dev/app/uploads/2025/02/MG_Roots-and-Tides_films_5.jpg
END:VEVENT
BEGIN:VEVENT
DTSTART;TZID=America/New_York:20250130T190000
DTEND;TZID=America/New_York:20250130T210000
DTSTAMP:20260423T053643
CREATED:20240923T153203Z
LAST-MODIFIED:20240923T153204Z
UID:10000372-1738263600-1738270800@staging.centropr.dev
SUMMARY:(Partner Event) Broad Underground: Puerto Rican Montage
DESCRIPTION:Learn more about Puerto Rican diasporic experiences and film language at this Broad Underground screening.\n\nThis event is programmed by Dalina A. Perdomo Álvarez\, Assistant Curator at the MSU Broad Art Museum\, and Dr. Pedro Noel Doreste Rodríguez\, Assistant Professor\, MSU Film Studies Program. Broad Underground is an ongoing collaboration between the MSU Broad Art Museum and the MSU Film Studies Program that presents experimental film\, video\, and new media screenings and encourages conversation around the topics featured.\n\nThis event is co-sponsored by the MSU Department of Art\, Art History\, and Design.
URL:https://staging.centropr.dev/event/partner-event-broad-underground-puerto-rican-montage/
LOCATION:MSU Wells Hall\, 619 Red Cedar Rd\, East Lansing\, MI\, 48824\, United States
CATEGORIES:Film Screening
ATTACH;FMTTYPE=image/jpeg:https://staging.centropr.dev/app/uploads/2024/09/Broad-Underground-Film-Series.jpg
END:VEVENT
BEGIN:VEVENT
DTSTART;TZID=America/New_York:20241117T140000
DTEND;TZID=America/New_York:20241117T160000
DTSTAMP:20260423T053643
CREATED:20241025T163715Z
LAST-MODIFIED:20241025T163731Z
UID:10000388-1731852000-1731859200@staging.centropr.dev
SUMMARY:(Partner Event) El taller de Naldi / Naldi's Workshop
DESCRIPTION:Film screening at the International Puerto Rican Heritage Film Festival on November 17th\, 2024 at 2:00 PM.\n\nLogline: An octogenarian folk-artist uses his paintings to recount Puerto Rican family and life histories to his grandson.\n\nA film by Carlos Rivera Fernandez and Arnaldo Fernandez Cruz\n\nProduced by Películas Viejas Productions for the Granada Centre for Visual Anthropology\n\nEl Taller de Naldi is a journey that chronicles a visual history of Puerto Rico\, inspired by the paintings of Arnaldo Fernandez Cruz\, an octogenarian folk artist. Together with his grandson\, filmmaker Carlos\, this painter and director pair become the authors of a narrative that shines a perennial\, memorial light on Arnaldo’s hometown of Cupey. Through a series of testimonies\, ranging from hilarious epithets of his rural youth to unsettling histories from Puerto Rico’s colonial past\, the film captures the essence of the place and its people. Simultaneously\, Arnaldo and Carlos collaborate in a reciprocal creative process\, engaging deeply with each other’s work. By mixing historiography and folklore with an experimental approach to the artist’s craft\, El Taller de Naldi is at once a meditation on the role of art in preserving a national memory\, and an intimate portrait of the personal relationship between a grandfather and his grandson.
URL:https://staging.centropr.dev/event/el-taller-de-naldi-naldis-workshop/
LOCATION:Regal Essex Crossing\, 129 Delancey Street\, New York\, NY\, 10002\, United States
CATEGORIES:Film Screening
ATTACH;FMTTYPE=image/png:https://staging.centropr.dev/app/uploads/2024/10/final.png
ORGANIZER;CN="International Puerto Rican Heritage Film Festival":MAILTO:partnerships@iprhff.com
END:VEVENT
BEGIN:VEVENT
DTSTART;TZID=America/New_York:20241017T180000
DTEND;TZID=America/New_York:20241017T203000
DTSTAMP:20260423T053643
CREATED:20240821T150000Z
LAST-MODIFIED:20240829T165403Z
UID:10000342-1729188000-1729197000@staging.centropr.dev
SUMMARY:"The Archives in Motion” Presentation of LAYERS: A Dance Film
DESCRIPTION:Join CENTRO on October 17th as we celebrate the breadth and depth of our archives with a special screening of Layers: A Dance Film by filmmaker and dancer César Abreu\, CENTRO Artist in Residence. Abreu uses the vibrant legacy of Puerto Rican artists reflected in our archival collections to influence this cinematic exploration of dance to express the personal resilience and triumph of individuals traveling their paths within marginalized communities.  Following the screening\, you will have the opportunity to hear a live performance of the film composer Angélica Negrón’s music\, Ruta Panorámica for Cello\, Bandoneón\, and Electronics\, and learn about the film’s creative process from a panel featuring Abreu\, Negrón\, and visual artist Roxane Revon. Come and witness yet another innovative presentation of our archives in motion. \n\n\n\n\n\n\n\nPhoto Credit: Still from film Layers\, poster artwork by Roxane Revon
URL:https://staging.centropr.dev/event/the-archives-in-motion-presentation-of-layers-a-dance-film/
LOCATION:The Silberman School of Social Work Auditorium\, 2180 3rd Ave\, New York\, New York\, 10065
CATEGORIES:Film Screening,Live Performance,Music
ATTACH;FMTTYPE=image/png:https://staging.centropr.dev/app/uploads/2024/08/Presentation-Archives-in-Motion-1-1.png
END:VEVENT
BEGIN:VEVENT
DTSTART;TZID=America/New_York:20240923T180000
DTEND;TZID=America/New_York:20240923T210000
DTSTAMP:20260423T053643
CREATED:20240923T153648Z
LAST-MODIFIED:20240923T153649Z
UID:10000365-1727114400-1727125200@staging.centropr.dev
SUMMARY:(Partner Event) Cinema On The Road: Loisaida\, NYC
DESCRIPTION:La Asociación de Documentalistas presenta “Cinema On the Road”. Y llegamos a NYC a Loisaida Center. \n\nEn una colaboración con Loisaida Center\, una organización puertorriqueña multidisciplinaria dedicada al desarrollo comunitario artístico y cultural en el Lower East Side\, presentamos los documentales La Memoria de Las Cosas\, La Torre\, El Peso de las Cenizas y Por lo que vienen. \n\nFor more info. visit: adocpr.org/calendario \n\n‘Cinema on the Road’ es posible gracias al apoyo de Flamboyán Arts Fund\, Constellations Culture Change Fund\, Ágora Cultural Architects\, Cine Latino Boston\, AGar Estudio\, and Óptico Fiber.
URL:https://staging.centropr.dev/event/partner-event-cinema-on-the-road-loisaida-nyc/
LOCATION:Loisaida Center\, 710 East 9th Street\, New York\, NY 10009\, New York\, NY\, 10009\, United States
CATEGORIES:Film Screening
ATTACH;FMTTYPE=image/png:https://staging.centropr.dev/app/uploads/2024/09/Cartelera_Loisaida_-Cinema-On-the-Road.png
ORGANIZER;CN="Asociacion de Documentalistas de Puerto Rico":MAILTO:adocpr@gmail.com
END:VEVENT
BEGIN:VEVENT
DTSTART;TZID=America/New_York:20240919T180000
DTEND;TZID=America/New_York:20240919T203000
DTSTAMP:20260423T053643
CREATED:20240821T150000Z
LAST-MODIFIED:20240925T162712Z
UID:10000337-1726768800-1726777800@staging.centropr.dev
SUMMARY:Afternoon Tertulia: The Memory of Radical Student Movements
DESCRIPTION:Join CENTRO on September 19th for a panel discussion on radical student movements and the screening of “The Five Demands”\, a film documenting the student takeover of City College of New York in April 1969. Following the Vietnam war\, protests like the one at City College\, led by Puerto Rican and Black students\, set the tone for affirmative action\, ethnic studies\, and the founding of CENTRO. Moderated by CENTRO Directora\, Dr. Yomaira Figueroa-Vasquez\, the panel will expand on the film by exploring the legacy and impact of student organizing and protest in combating institutional racism. Panelists include Hunter College Professor\, Tami Kashia\, Henry Arce\, one of the leaders of the 1968 protests at City College\, and Professor Obden Mondésir\, Associate Director of the Barnard Archives & Special Collections. \n\n\n\n\n\n\n\nPhoto credit: CCNY students\, some of them members of the Puerto Rican Institute for Student Action (PRISA) demonstrate on campus after a meeting with administration and faculty members. Student at right carries a Puerto Rican flag. Photo courtesy of The New York Times.
URL:https://staging.centropr.dev/event/afternoon-tertulia-the-memory-of-radical-student-movements/
LOCATION:The Silberman School of Social Work Auditorium\, 2180 3rd Ave\, New York\, New York\, 10065
CATEGORIES:Film Screening
ATTACH;FMTTYPE=image/png:https://staging.centropr.dev/app/uploads/2024/08/Screening-The-Five-Demands.png
END:VEVENT
BEGIN:VEVENT
DTSTART;TZID=America/New_York:20240917T180000
DTEND;TZID=America/New_York:20240917T200000
DTSTAMP:20260423T053643
CREATED:20240913T180325Z
LAST-MODIFIED:20240913T180326Z
UID:10000358-1726596000-1726603200@staging.centropr.dev
SUMMARY:Partner Event: Palestine Film Series #7 - Screening of Lyd
DESCRIPTION:Join us for a screening of Lyd. \nDirected by Rami Younis & Sarah Ema Friedland \n78 Min UK/US\n\n@ Lang Recital Hall\, Hunter North 4th Floor\n\n\nA story of a city that once connected Palestine to the world —what it once was\, what it is now\, and what it could have been. To be followed by a Q&A with co-director Sarah Ema Friedland.\n\nCo-sponsored by Arabic Studies Program\, Anti-Racism Committee at Hunter Dance Department\, Film and Media Department\, MFA Dance Program at Hunter\, Sociology Department. Women & Studies Program\, CUNY Faculty & Staff for Justice in Palestine (FJSP)\, and the Center for Puerto Rican Studies (CENTRO).
URL:https://staging.centropr.dev/event/partner-event-palestine-film-series-7-screening-of-lyd/
LOCATION:Hunter College\, 695 Park Ave\, New York\, 10065\, United States
CATEGORIES:Film Screening
ATTACH;FMTTYPE=image/jpeg:https://staging.centropr.dev/app/uploads/2024/09/MV5BZjA3NTU5NzUtMzA5Yi00N2VlLTkwM2QtMTMwM2M0NDNkZTJjXkEyXkFqcGc@._V1_FMjpg_UX1000_.jpg
END:VEVENT
END:VCALENDAR